Workbook

Sheet Emploi1
A1: 1 | B1: Population en âge de travailler (2011) | E1: 3 | F1: population au chômage au sens strict (2011) | I1: 3.bis | J1: Chômeurs découragé (2011)
A3: Homme | B3: 1594553.7 | E3: Homme | F3: 22906.326 | I3: Homme | J3: 34025.214
A4: Femme | B4: 1739536.7 | E4: Femme | F4: 19689.004 | I4: Femme | J4: 89254.322
A5: 15-24 | B5: 1180076 | E5: 15-24 | F5: 7671.2523 | I5: 15-24 | J5: 43812.451
A6: 15-35 | B6: 2190762.2 | E6: 15-35 | F6: 29625.448 | I6: 15-35 | J6: 86807.865
A7: 15-64 | B7: 3334090.3 | E7: 15-64 | F7: 42595.331 | I7: 15-64 | J7: 123279.54
A8: Urbain | B8: 1454179 | E8: Urbain | F8: 34519.217 | I8: Urbain | J8: 82454.141
A9: Rural | B9: 1879911.3 | E9: Rural | F9: 8076.114 | I9: Rural | J9: 40825.394
A11: 2 | B11: Population occupée (2011) | E11: 4 | F11: population active au sens strict (2011)
A13: Homme | B13: 1042967.1 | E13: Homme | F13: =B13+F3 -> 1065873.4
A14: Femme | B14: 1255617.2 | E14: Femme | F14: =B14+F4 -> 1275306.2
A15: 15-24 | B15: 449905.98 | E15: 15-24 | F15: =B15+F5 -> 457577.23
A16: 15-35 | B16: 1285896.6 | E16: 15-35 | F16: =B16+F6 -> 1315522.1
A17: 15-64 | B17: 2298584.3 | E17: 15-64 | F17: =B17+F7 -> 2341179.6
A18: Urbain | B18: 896375.99 | E18: Urbain | F18: =B18+F8 -> 930895.2
A19: Rural | B19: 1402208.3 | E19: Rural | F19: =B19+F9 -> 1410284.4

Sheet Emploi2
A1: 5 | B1: Taux d'emploi vulnérable (2011) | F1: 7 | G1: Ratio emploi/population (2011) | K1: 10 | L1: Taux de chômage au sens trict (2011) | P1: 12.b | Q1: Taux de chômage au sens large des 15-35 ans (2011) | U1: 11.b | V1: Taux de chômage au sens large des 15-24 ans (2011) | Z1: 14 | AA1: proportion de jeunes de 15-24 ans ni en emploi, ni en éducation et en formation (2011) | AE1: 17 | AF1: Proportion de l'emploi salarié dans le secteur non agricole (2011) | AJ1: 19 | AK1: Taux de travailleurs pauvres (2011)
B3: Numérateur | C3: Dénominateur | D3: Indicateur | G3: Numérateur | H3: Dénominateur | I3: Indicateur | L3: Numérateur | M3: Dénominateur | N3: Indicateur | Q3: Numérateur | R3: Dénominateur | S3: Indicateur | V3: Numérateur | W3: Dénominateur | X3: Indicateur | AA3: Numérateur | AB3: Dénominateur | AC3: Indicateur | AF3: Numérateur | AG3: Dénominateur | AH3: Indicateur | AK3: Numérateur | AL3: Dénominateur | AM3: Indicateur
A4: Homme | B4: 568473.13 | C4: 1042967.1 | D4: =B4/C4 -> 0.54505375 | F4: Homme | G4: 1042967.1 | H4: 1594553.7 | I4: =G4/H4 -> 0.65408091 | K4: Homme | L4: =Emploi1!F3 -> 22906.326 | M4: =Emploi1!B13+Emploi1!F3 -> 1065873.4 | N4: =L4/M4 -> 0.021490663 | P4: Homme | Q4: 34743.295 | R4: 581023.76 | S4: =Q4/R4 -> 0.059796685 | U4: Homme | V4: 11342.611 | W4: 187741.44 | X4: =V4/W4 -> 0.060416128 | Z4: Homme | AA4: 31264.813 | AB4: 597149.45 | AC4: =AA4/AB4 -> 0.052356765 | AE4: Homme | AF4: 248250.66 | AG4: 488036.33 | AH4: =AF4/AG4 -> 0.50867251 | AJ4: Homme | AK4: 550935.29 | AL4: =Emploi1!B13 -> 1042967.1 | AM4: =AK4/AL4 -> 0.52823842
A5: Femme | B5: 770205.75 | C5: 1255617.2 | D5: =B5/C5 -> 0.61340809 | F5: Femme | G5: 1255617.2 | H5: 1739536.7 | I5: =G5/H5 -> 0.72181129 | K5: Femme | L5: =Emploi1!F4 -> 19689.004 | M5: =Emploi1!B14+Emploi1!F4 -> 1275306.2 | N5: =L5/M5 -> 0.015438649 | P5: Femme | Q5: 81690.018 | R5: 821306.15 | S5: =Q5/R5 -> 0.099463541 | U5: Femme | V5: 40141.093 | W5: 313648.24 | X5: =V5/W5 -> 0.12798125 | Z5: Femme | AA5: 70706.107 | AB5: 582926.56 | AC5: =AA5/AB5 -> 0.12129505 | AE5: Femme | AF5: 101860.91 | AG5: 591466.72 | AH5: =AF5/AG5 -> 0.17221749 | AJ5: Femme | AK5: 716057.78 | AL5: =Emploi1!B14 -> 1255617.2 | AM5: =AK5/AL5 -> 0.5702835
A6: 15-24 | B6: 149037.14 | C6: 449905.98 | D6: =B6/C6 -> 0.33126285 | F6: 15-24 | G6: 449905.98 | H6: 1180076 | I6: =G6/H6 -> 0.38125169 | K6: 15-24 | L6: =Emploi1!F5 -> 7671.2523 | M6: =Emploi1!B15+Emploi1!F5 -> 457577.23 | N6: =L6/M6 -> 0.016764934 | P6: Urbain | Q6: 85108.036 | R6: 590073.9 | S6: =Q6/R6 -> 0.14423284 | U6: Urbain | V6: 33559.909 | W6: 195873.4 | X6: =V6/W6 -> 0.1713347 | Z6: Urbain | AA6: 63796.712 | AB6: 518263.16 | AC6: =AA6/AB6 -> 0.12309714 | AE6: 15-24 | AF6: 54354.815 | AG6: 132295.44 | AH6: =AF6/AG6 -> 0.41085933 | AJ6: 15-24 | AK6: 275682.94 | AL6: =Emploi1!B15 -> 449905.98 | AM6: =AK6/AL6 -> 0.61275678
A7: 15-35 | B7: 656461.25 | C7: 1285896.6 | D7: =B7/C7 -> 0.51050858 | F7: 15-35 | G7: 1285896.6 | H7: 2190762.2 | I7: =G7/H7 -> 0.58696312 | K7: 15-35 | L7: =Emploi1!F6 -> 29625.448 | M7: =Emploi1!B16+Emploi1!F6 -> 1315522.1 | N7: =L7/M7 -> 0.022519918 | P7: Rural | Q7: 31325.277 | R7: 812256.02 | S7: =Q7/R7 -> 0.038565768 | U7: Rural | V7: 17923.794 | W7: 305516.29 | X7: =V7/W7 -> 0.05866723 | Z7: Rural | AA7: 38174.208 | AB7: 661812.85 | AC7: =AA7/AB7 -> 0.057681274 | AE7: 15-35 | AF7: 198253.58 | AG7: 570313.69 | AH7: =AF7/AG7 -> 0.347622 | AJ7: 15-35 | AK7: 706857.41 | AL7: =Emploi1!B16 -> 1285896.6 | AM7: =AK7/AL7 -> 0.54970003
A8: 15-64 | B8: 1338678.9 | C8: 2298584.3 | D8: =B8/C8 -> 0.58239277 | F8: 15-64 | G8: 2298584.3 | H8: 3334090.3 | I8: =G8/H8 -> 0.68941873 | K8: 15-64 | L8: =Emploi1!F7 -> 42595.331 | M8: =Emploi1!B17+Emploi1!F7 -> 2341179.6 | N8: =L8/M8 -> 0.018193961 | P8: Ensemble | Q8: 116433.31 | R8: 1402329.9 | S8: =Q8/R8 -> 0.083028474 | U8: Ensemble | V8: 51483.704 | W8: 501389.68 | X8: =V8/W8 -> 0.10268202 | Z8: Ensemble | AA8: 101970.92 | AB8: 1180076 | AC8: =AA8/AB8 -> 0.086410468 | AE8: 15-64 | AF8: 350111.58 | AG8: 1079503.1 | AH8: =AF8/AG8 -> 0.32432662 | AJ8: 15-64 | AK8: 1266993.1 | AL8: =Emploi1!B17 -> 2298584.3 | AM8: =AK8/AL8 -> 0.55120583
A9: Urbain | B9: 495735.63 | C9: 896375.99 | D9: =B9/C9 -> 0.5530443 | F9: Urbain | G9: 896375.99 | H9: 1454179 | I9: =G9/H9 -> 0.61641378 | K9: Urbain | L9: =Emploi1!F8 -> 34519.217 | M9: =Emploi1!B18+Emploi1!F8 -> 930895.2 | N9: =L9/M9 -> 0.037081743 | AE9: Urbain | AF9: 259098.06 | AG9: 726036.24 | AH9: =AF9/AG9 -> 0.35686657 | AJ9: Urbain | AK9: 277067.09 | AL9: =Emploi1!B18 -> 896375.99 | AM9: =AK9/AL9 -> 0.30909696
A10: Rural | B10: 842943.25 | C10: 1402208.3 | D10: =B10/C10 -> 0.60115408 | F10: Rural | G10: 1402208.3 | H10: 1879911.3 | I10: =G10/H10 -> 0.74589068 | K10: Rural | L10: =Emploi1!F9 -> 8076.114 | M10: =Emploi1!B19+Emploi1!F9 -> 1410284.4 | N10: =L10/M10 -> 0.0057265852 | AE10: Rural | AF10: 91013.518 | AG10: 353466.82 | AH10: =AF10/AG10 -> 0.25748815 | AJ10: Rural | AK10: 989925.98 | AL10: =Emploi1!B19 -> 1402208.3 | AM10: =AK10/AL10 -> 0.7059764
F12: 8 | G12: Taux de croissance de l'emploi
G13: A complèter
A15: 6 | B15: Taux de pluriactivité (2011) | F15: 9 | G15: Taux de chômage élargi (2011) | K15: 12.a | L15: Taux de chômage au sens trict des 15-35 ans (2011) | P15: 11.a | Q15: Taux de chômage au sens trict des 15-24 ans (2011) | U15: 13 | V15: Proportion de chômeurs découragé (2011) | Z15: 15 | AA15: proportion de jeunes de 15-35 ans ni en emploi, ni en éducation et en formation (2011) | AE15: 18 | AF15: Proportion des ménages de travailleurs pauvres | AJ15: 20 | AK15: Taux de salarisation (2011)
B17: Numérateur | C17: Dénominateur | D17: Indicateur | G17: Numérateur | H17: Dénominateur | I17: Indicateur | L17: Numérateur | M17: Dénominateur | N17: Indicateur | Q17: Numérateur | R17: Dénominateur | S17: Indicateur | V17: Numérateur | W17: Dénominateur | X17: Indicateur | AA17: Numérateur | AB17: Dénominateur | AC17: Indicateur | AF17: A complèter | AK17: Numérateur | AL17: Dénominateur | AM17: Indicateur
A18: Homme | B18: 247368.35 | C18: 1042967.1 | D18: =B18/C18 -> 0.23717752 | F18: Homme | G18: =Emploi1!F3+Emploi1!J3 -> 56931.54 | H18: =Emploi1!B13+Emploi1!F3+Emploi1!J3 -> 1099898.6 | I18: =G18/H18 -> 0.051760715 | K18: Homme | L18: 14396.098 | M18: 560676.57 | N18: =L18/M18 -> 0.025676296 | P18: Homme | Q18: 3466.2532 | R18: 179865.08 | S18: =Q18/R18 -> 0.019271407 | U18: Homme | V18: 34025.214 | W18: =Emploi1!F13+Emploi1!J3 -> 1099898.6 | X18: =V18/W18 -> 0.030934863 | Z18: Homme | AA18: 66145.481 | AB18: 1050634.9 | AC18: =AA18/AB18 -> 0.06295763 | AJ18: Homme | AK18: 309112.02 | AL18: =Emploi1!B13 -> 1042967.1 | AM18: =AK18/AL18 -> 0.29637754
A19: Femme | B19: 225969.38 | C19: 1255617.2 | D19: =B19/C19 -> 0.17996678 | F19: Femme | G19: =Emploi1!F4+Emploi1!J4 -> 108943.33 | H19: =Emploi1!B14+Emploi1!F4+Emploi1!J4 -> 1364560.5 | I19: =G19/H19 -> 0.079837665 | K19: Femme | L19: 15229.351 | M19: 754845.49 | N19: =L19/M19 -> 0.020175455 | P19: Femme | Q19: 4204.9991 | R19: 277712.15 | S19: =Q19/R19 -> 0.015141574 | U19: Femme | V19: 89254.322 | W19: =Emploi1!F14+Emploi1!J4 -> 1364560.5 | X19: =V19/W19 -> 0.06540884 | Z19: Femme | AA19: 123016.31 | AB19: 1140127.3 | AC19: =AA19/AB19 -> 0.107897 | AJ19: Femme | AK19: 160785.58 | AL19: =Emploi1!B14 -> 1255617.2 | AM19: =AK19/AL19 -> 0.12805302
A20: 15-24 | B20: 43539.908 | C20: 449905.98 | D20: =B20/C20 -> 0.09677557 | F20: 15-24 | G20: =Emploi1!F5+Emploi1!J5 -> 51483.704 | H20: =Emploi1!B15+Emploi1!F5+Emploi1!J5 -> 501389.68 | I20: =G20/H20 -> 0.10268202 | K20: Urbain | L20: 25472.401 | M20: 530438.26 | N20: =L20/M20 -> 0.048021425 | P20: Urbain | Q20: 6151.8968 | R20: 168465.38 | S20: =Q20/R20 -> 0.036517276 | U20: 15-24 | V20: 43812.451 | W20: =Emploi1!F15+Emploi1!J5 -> 501389.68 | X20: =V20/W20 -> 0.087382036 | Z20: Urbain | AA20: 135057.55 | AB20: 988090.41 | AC20: =AA20/AB20 -> 0.13668542 | AJ20: 15-24 | AK20: 79282.098 | AL20: =Emploi1!B15 -> 449905.98 | AM20: =AK20/AL20 -> 0.17621926
A21: 15-35 | B21: 225084.68 | C21: 1285896.6 | D21: =B21/C21 -> 0.17504104 | F21: 15-35 | G21: =Emploi1!F6+Emploi1!J6 -> 116433.31 | H21: =Emploi1!B16+Emploi1!F6+Emploi1!J6 -> 1402329.9 | I21: =G21/H21 -> 0.083028474 | K21: Rural | L21: 4153.0474 | M21: 785083.79 | N21: =L21/M21 -> 0.0052899415 | P21: Rural | Q21: 1519.3554 | R21: 289111.85 | S21: =Q21/R21 -> 0.0052552513 | U21: 15-35 | V21: 86807.865 | W21: =Emploi1!F16+Emploi1!J6 -> 1402329.9 | X21: =V21/W21 -> 0.061902598 | Z21: Rural | AA21: 54104.244 | AB21: 1202671.8 | AC21: =AA21/AB21 -> 0.044986709 | AJ21: 15-35 | AK21: 264499.72 | AL21: =Emploi1!B16 -> 1285896.6 | AM21: =AK21/AL21 -> 0.20569284
A22: 15-64 | B22: 473337.73 | C22: 2298584.3 | D22: =B22/C22 -> 0.20592576 | F22: 15-64 | G22: =Emploi1!F7+Emploi1!J7 -> 165874.87 | H22: =Emploi1!B17+Emploi1!F7+Emploi1!J7 -> 2464459.2 | I22: =G22/H22 -> 0.067306802 | K22: Ensemble | L22: 29625.448 | M22: 1315522.1 | N22: =L22/M22 -> 0.022519918 | P22: Ensemble | Q22: 7671.2523 | R22: 457577.23 | S22: =Q22/R22 -> 0.016764934 | U22: 15-64 | V22: 123279.54 | W22: =Emploi1!F17+Emploi1!J7 -> 2464459.2 | X22: =V22/W22 -> 0.050022957 | Z22: Ensemble | AA22: 189161.8 | AB22: 2190762.2 | AC22: =AA22/AB22 -> 0.086345199 | AJ22: 15-64 | AK22: 469897.6 | AL22: =Emploi1!B17 -> 2298584.3 | AM22: =AK22/AL22 -> 0.20442913
A23: Urbain | B23: 137511 | C23: 896375.99 | D23: =B23/C23 -> 0.15340772 | F23: Urbain | G23: =Emploi1!F8+Emploi1!J8 -> 116973.36 | H23: =Emploi1!B18+Emploi1!F8+Emploi1!J8 -> 1013349.3 | I23: =G23/H23 -> 0.11543241 | U23: Urbain | V23: 82454.141 | W23: =Emploi1!F18+Emploi1!J8 -> 1013349.3 | X23: =V23/W23 -> 0.081367933 | AJ23: Urbain | AK23: 270139.32 | AL23: =Emploi1!B18 -> 896375.99 | AM23: =AK23/AL23 -> 0.30136831
A24: Rural | B24: 335826.73 | C24: 1402208.3 | D24: =B24/C24 -> 0.23949846 | F24: Rural | G24: =Emploi1!F9+Emploi1!J9 -> 48901.508 | H24: =Emploi1!B19+Emploi1!F9+Emploi1!J9 -> 1451109.8 | I24: =G24/H24 -> 0.033699385 | U24: Rural | V24: 40825.394 | W24: =Emploi1!F19+Emploi1!J9 -> 1451109.8 | X24: =V24/W24 -> 0.028133911 | Z24: 16 | AA24: Taux d'emplois informel | AJ24: Rural | AK24: 199758.28 | AL24: =Emploi1!B19 -> 1402208.3 | AM24: =AK24/AL24 -> 0.14245977
AA26: Non disponible

Sheet Education & Formation
A1: 21 | B1: Taux d'alphabétisation | F1: 27 | G1: Taux de Scolarisation ETFP | M1: 30.b | N1: Taux de réussite au BAC 2012 | R1: 31 | S1: Taux de redoublement ETFP (2010-2011) | W1: 35 | X1: Nombre de jeunes formés en apprentisage traditionnel 2011 (inscrits pour l'examen du CFA)
B3: Numérateur | C3: Dénominateur | D3: Indicateur | H3: Non disponible | M3: Séries du BAC | N3: Numérateur | O3: Dénominateur | P3: Indicateur | S3: Numérateur | T3: Dénominateur | U3: Indicateur | W3: Total | X3: 15981
A4: Homme | B4: 1252832.3 | C4: 1693971.3 | D4: =B4/C4 -> 0.73958294 | M4: E | N4: 3 | O4: 8 | P4: =N4/O4 -> 0.375 | R4: Masculin | S4: 3163 | T4: 18056 | U4: =S4/T4 -> 0.17517723
A5: Femme | B5: 890916.66 | C5: 1858711.9 | D5: =B5/C5 -> 0.47931938 | F5: 28 | G5: Taux de scolarisation EFTP résidentiel (2010-2011) | M5: F1 | N5: 15 | O5: 35 | P5: =N5/O5 -> 0.42857143 | R5: Feminin | S5: 2481 | T5: 12411 | U5: =S5/T5 -> 0.19990331
A6: 15-24 | B6: 936424.8 | C6: 1175304.7 | D6: =B6/C6 -> 0.79675067 | M6: F2 | N6: 68 | O6: 159 | P6: =N6/O6 -> 0.42767296 | R6: Total | S6: 5644 | T6: 30467 | U6: =S6/T6 -> 0.18524961 | W6: 36 | X6: Nombre de jeunes formés en apprentisage traditionnel rénové (2010-2011)
A7: 15-35 | B7: 1539239.8 | C7: 2183514.3 | D7: =B7/C7 -> 0.7049369 | H7: Numérateur | I7: Dénominateur | J7: Indicateur | M7: F3 | N7: 174 | O7: 181 | P7: =N7/O7 -> 0.96132597
A8: 15-64 | B8: 2101679.4 | C8: 3323283.3 | D8: =B8/C8 -> 0.63241052 | G8: Masculin | H8: 19248 | I8: 19659 | J8: =H8/I8 -> 0.97909354 | M8: F4 | N8: 117 | O8: 177 | P8: =N8/O8 -> 0.66101695 | R8: 32 | S8: Taux d'abandon | W8: Masculin | X8: 411
A9: 15 ans et plus | B9: 2143749 | C9: 3552683.3 | D9: =B9/C9 -> 0.60341685 | G9: Feminin | H9: 13446 | I9: 13450 | J9: =H9/I9 -> 0.9997026 | M9: Ti/1 | N9: 12 | O9: 14 | P9: =N9/O9 -> 0.85714286 | W9: Feminin | X9: 4
A10: Urbain | B10: 1384061 | C10: 2012707.9 | D10: =B10/C10 -> 0.68766113 | G10: Total | H10: 32694 | I10: 33109 | J10: =H10/I10 -> 0.98746564 | M10: G1 | N10: 1376 | O10: 1561 | P10: =N10/O10 -> 0.88148623 | S10: Non disponible | W10: Total | X10: 415
A11: Rural | B11: 759687.99 | C11: 1539975.4 | D11: =B11/C11 -> 0.49331177 | M11: G2 | N11: 2935 | O11: 4694 | P11: =N11/O11 -> 0.6252663
M12: G3 | N12: 1249 | O12: 2133 | P12: =N12/O12 -> 0.58556024
A13: 22 | B13: Taux de scolarisation Brut EPT | F13: 29 | G13: Taux de scolarisation EFTP en alternance (2010-2011) | M13: TOTAL | N13: =SUM(N4:N12) -> 5949 | O13: =SUM(O4:O12) -> 8962 | P13: =N13/O13 -> 0.66380272 | R13: 33 | S13: Taux d'insertion des diplômés | W13: 37 | X13: Nombre de jeunes formés en formations qualifiantes
A15: Primaire | B15: 1.324 | H15: Numérateur | I15: Dénominateur | J15: Indicateur | S15: Non disponible | X15: Non disponible
A16: Secondaire1 | B16: 0.652 | G16: Masculin | H16: 411 | I16: 19659 | J16: =H16/I16 -> 0.020906455 | M16: 30.c | N16: Taux de réussite au CAP 2011
A17: Secondaire2 | B17: 0.309 | G17: Feminin | H17: 4 | I17: 13450 | J17: =H17/I17 -> 0.00029739777
G18: Total | H18: 415 | I18: 33109 | J18: =H18/I18 -> 0.012534356 | M18: Séries du CAP | N18: Numérateur | O18: Dénominateur | P18: Indicateur | R18: 34 | S18: Indice de financement de l'ETFP 2009 à 2011 | W18: 38 | X18: Nombre de jeunes formés en situation de professionnalisation dans l’emploi
A19: 23 | B19: Taux de Scolarisation net | M19: INDUSTRIELLE | N19: 1322 | O19: 1429 | P19: =N19/O19 -> 0.92512246
M20: ARTISTIQUE ARTISANALE | N20: 12 | O20: 19 | P20: =N20/O20 -> 0.63157895 | S20: Numérateur (en milliard de F CFA) | T20: Dénominateur (en milliard de F CFA) | U20: Indicateur | X20: Non disponible
A21: Primaire | B21: 0.839 | F21: 30.a | G21: Taux de réussite au BAC 2011 | M21: COIFFURE, ESTHETIQUE, COUTURE | N21: 1409 | O21: 1551 | P21: =N21/O21 -> 0.90844616 | R21: 2009 | S21: 3.553 | T21: 1493.5 | U21: =S21/T21 -> 0.0023789756
M22: TOTAL | N22: =SUM(N19:N21) -> 2743 | O22: =SUM(O19:O21) -> 2999 | P22: =N22/O22 -> 0.91463821 | R22: 2010 | S22: 4.5955 | T22: 1571.3 | U22: =S22/T22 -> 0.0029246484
A23: 24 | B23: Taux d'achèvement EPT | G23: Séries du BAC | H23: Numérateur | I23: Dénominateur | J23: Indicateur | R23: 2011 | S23: 4.6023 | T23: 1743.3 | U23: =S23/T23 -> 0.0026399931 | W23: 39 | X23: Nombre de jeunes formés en DCTP
G24: E | H24: 4 | I24: 7 | J24: =H24/I24 -> 0.57142857
A25: Primaire | B25: 0.757 | G25: F1 | H25: 29 | I25: 39 | J25: =H25/I25 -> 0.74358974 | M25: 30.d | N25: Taux de réussite au BT 2011 | X25: Non disponible
G26: F2 | H26: 125 | I26: 182 | J26: =H26/I26 -> 0.68681319
A27: 25 | B27: Taux de transition vers l'enseignement secondaire | G27: F3 | H27: 177 | I27: 208 | J27: =H27/I27 -> 0.85096154 | N27: Numérateur | O27: Dénominateur | P27: Indicateur
G28: F4 | H28: 136 | I28: 267 | J28: =H28/I28 -> 0.5093633 | M28: BT | N28: 623 | O28: 729 | P28: =N28/O28 -> 0.85459534 | W28: 40 | X28: Taux de jeunes formés selon le dispositif d’acquisition de compétences
A29: Primaire-Secondaire1 | B29: 0.75 | G29: Ti/1 | H29: 8 | I29: 17 | J29: =H29/I29 -> 0.47058824
G30: G1 | H30: 666 | I30: 946 | J30: =H30/I30 -> 0.70401691 | M30: 30.e | N30: Taux de réussite au CFA 2011
A31: 26 | B31: Taux de transition vers l'enseignement Supérieur | G31: G2 | H31: 1423 | I31: 3050 | J31: =H31/I31 -> 0.46655738 | X31: Non disponible
G32: G3 | H32: 616 | I32: 1260 | J32: =H32/I32 -> 0.48888889 | N32: Numérateur | O32: Dénominateur | P32: Indicateur
B33: Non disponible | G33: TOTAL | H33: =SUM(H24:H32) -> 3184 | I33: =SUM(I24:I32) -> 5976 | J33: =H33/I33 -> 0.53279786 | M33: CFA | N33: 14692 | O33: 15200 | P33: =N33/O33 -> 0.96657895
